BEGIN:VCALENDAR
VERSION:2.0
PRODID:-//Sense &amp; Savour - ECPv6.15.20//NONSGML v1.0//EN
CALSCALE:GREGORIAN
METHOD:PUBLISH
X-ORIGINAL-URL:https://sense-savour.de
X-WR-CALDESC:Veranstaltungen für Sense &amp; Savour
REFRESH-INTERVAL;VALUE=DURATION:PT1H
X-Robots-Tag:noindex
X-PUBLISHED-TTL:PT1H
BEGIN:VTIMEZONE
TZID:Europe/Berlin
BEGIN:DAYLIGHT
TZOFFSETFROM:+0100
TZOFFSETTO:+0200
TZNAME:CEST
DTSTART:20250330T010000
END:DAYLIGHT
BEGIN:STANDARD
TZOFFSETFROM:+0200
TZOFFSETTO:+0100
TZNAME:CET
DTSTART:20251026T010000
END:STANDARD
BEGIN:DAYLIGHT
TZOFFSETFROM:+0100
TZOFFSETTO:+0200
TZNAME:CEST
DTSTART:20260329T010000
END:DAYLIGHT
BEGIN:STANDARD
TZOFFSETFROM:+0200
TZOFFSETTO:+0100
TZNAME:CET
DTSTART:20261025T010000
END:STANDARD
BEGIN:DAYLIGHT
TZOFFSETFROM:+0100
TZOFFSETTO:+0200
TZNAME:CEST
DTSTART:20270328T010000
END:DAYLIGHT
BEGIN:STANDARD
TZOFFSETFROM:+0200
TZOFFSETTO:+0100
TZNAME:CET
DTSTART:20271031T010000
END:STANDARD
END:VTIMEZONE
BEGIN:VEVENT
DTSTART;TZID=Europe/Berlin:20261001T180000
DTEND;TZID=Europe/Berlin:20261001T220000
DTSTAMP:20260421T225949
CREATED:20260104T100238Z
LAST-MODIFIED:20260104T100238Z
UID:4877-1790877600-1790892000@sense-savour.de
SUMMARY:Orientalischer Kochkurs
DESCRIPTION:Taucht gemeinsam mit eurer Familie und euren Freunden in die faszinierende Welt der orientalischen Küche ein! 🧆In diesem Kochkurs bereiten wir gemeinsam ein köstliches Menü aus aromatischen Klassikern zu. \nZum Kochkurs
URL:https://sense-savour.de/event/orientalischer-kochkurs-01102026/
LOCATION:Sense & Savour\, Senftlstraße 3\, München\, 81541\, Germany
CATEGORIES:orientalischer Kochkurs
ATTACH;FMTTYPE=image/jpeg:https://sense-savour.de/wp-content/uploads/2025/10/falafel-hummus-pita-scaled.jpg
ORGANIZER;CN="Sense & Savour":MAILTO:info@sense-savour.com
END:VEVENT
BEGIN:VEVENT
DTSTART;TZID=Europe/Berlin:20261004T110000
DTEND;TZID=Europe/Berlin:20261004T150000
DTSTAMP:20260421T225949
CREATED:20251231T114833Z
LAST-MODIFIED:20251231T114833Z
UID:4878-1791111600-1791126000@sense-savour.de
SUMMARY:Sushi Kochkurs
DESCRIPTION:Frisch\, leicht und kreativ: In diesem Kurs lernst du die Kunst der Sushi-Zubereitung kennen – von klassischen Nigiri bis zur California Roll. Natürlich verwenden wir nur Fisch und Zutaten in bester Qualität. \nZur Kurs Beschreibung
URL:https://sense-savour.de/event/sushi-kochkurs-04102026/
LOCATION:Sense & Savour\, Senftlstraße 3\, München\, 81541\, Germany
CATEGORIES:Sushi
ATTACH;FMTTYPE=image/jpeg:https://sense-savour.de/wp-content/uploads/2025/09/set-of-traditional-japanese-sushi-and-rolls-angle-2025-02-12-19-13-48-utc-scaled.jpg
ORGANIZER;CN="Sense & Savour":MAILTO:info@sense-savour.com
END:VEVENT
BEGIN:VEVENT
DTSTART;TZID=Europe/Berlin:20261008T180000
DTEND;TZID=Europe/Berlin:20261008T220000
DTSTAMP:20260421T225949
CREATED:20260104T102904Z
LAST-MODIFIED:20260104T103007Z
UID:4879-1791482400-1791496800@sense-savour.de
SUMMARY:Omas bayerische Klassiker
DESCRIPTION:Herzhaft\, traditionell und mit viel Liebe gekocht: Von Obatzda mit frischem Bauernbrot über Schweinsbraten bis zum warmen Apfelstrudel – ein Abend wie bei Oma am Sonntagstisch. \nZur Kurs Beschreibung
URL:https://sense-savour.de/event/omas-bayerische-klassiker-08102026/
LOCATION:Sense & Savour\, Senftlstraße 3\, München\, 81541\, Germany
CATEGORIES:Omas bayrische Klassiker
ATTACH;FMTTYPE=image/jpeg:https://sense-savour.de/wp-content/uploads/2025/09/Omas-bayerische-klassiker-scaled.jpg
ORGANIZER;CN="Sense & Savour":MAILTO:info@sense-savour.com
END:VEVENT
BEGIN:VEVENT
DTSTART;TZID=Europe/Berlin:20261011T110000
DTEND;TZID=Europe/Berlin:20261011T160000
DTSTAMP:20260421T225949
CREATED:20260102T082020Z
LAST-MODIFIED:20260102T082020Z
UID:4880-1791716400-1791734400@sense-savour.de
SUMMARY:Workshop Pasta
DESCRIPTION:Pasta Teig Basis\nRavioli Spinat Ricotta Lachs\nLasagne al forno\nTagaitelle Rahm Kräuterseitlinge\nPasta Carbonara\n\nZum Workshop
URL:https://sense-savour.de/event/workshop-pasta-11102026/
LOCATION:Sense & Savour\, Senftlstraße 3\, München\, 81541\, Germany
CATEGORIES:Workshop Pasta
ATTACH;FMTTYPE=image/jpeg:https://sense-savour.de/wp-content/uploads/2025/09/ungekochte-bandnudeln-mit-mehl-auf-schwarzem-hintergrund-1-scaled.jpg
ORGANIZER;CN="Sense & Savour":MAILTO:info@sense-savour.com
END:VEVENT
BEGIN:VEVENT
DTSTART;TZID=Europe/Berlin:20261016T180000
DTEND;TZID=Europe/Berlin:20261016T220000
DTSTAMP:20260421T225949
CREATED:20251231T112414Z
LAST-MODIFIED:20251231T113511Z
UID:4881-1792173600-1792188000@sense-savour.de
SUMMARY:Vegan um die Welt
DESCRIPTION:Bunt\, abwechslungsreich und voller Geschmack: In diesem Kurs reisen wir kulinarisch einmal um den Globus – von asiatischen Sommerrollen bis zum schokoladigen Lava Cake. 100 % pflanzlich\, überraschend vielseitig und köstlich. \nZur Kurs Beschreibung
URL:https://sense-savour.de/event/vegan-um-die-welt-16102026/
LOCATION:Sense & Savour\, Senftlstraße 3\, München\, 81541\, Germany
CATEGORIES:Vegan um die Welt
ATTACH;FMTTYPE=image/jpeg:https://sense-savour.de/wp-content/uploads/2025/09/ingredients-for-preparation-vegan-dishes-green-be-2025-02-03-07-09-26-utc-scaled.jpg
ORGANIZER;CN="Sense & Savour":MAILTO:info@sense-savour.com
END:VEVENT
BEGIN:VEVENT
DTSTART;TZID=Europe/Berlin:20261018T110000
DTEND;TZID=Europe/Berlin:20261018T160000
DTSTAMP:20260421T225949
CREATED:20260104T105005Z
LAST-MODIFIED:20260104T105005Z
UID:4882-1792321200-1792339200@sense-savour.de
SUMMARY:Workshop Saucen und Fonds
DESCRIPTION:Grand Jus\nSauce Hollondaise & Zitronenlachs / Spargel\nGeschmorte Kalbsbäckchen\nKartoffelpüree Pflücksalat\nZabaione mit Früchten\n\nZum Workshop
URL:https://sense-savour.de/event/workshop-saucen-fonds-18102026/
LOCATION:Sense & Savour\, Senftlstraße 3\, München\, 81541\, Germany
CATEGORIES:Workshop Saucen
ATTACH;FMTTYPE=image/jpeg:https://sense-savour.de/wp-content/uploads/2025/09/champignoncremesuppe-einwegbecherschale-serviert-mit-grunem-gemuse-scaled.jpg
ORGANIZER;CN="Sense & Savour":MAILTO:info@sense-savour.com
END:VEVENT
BEGIN:VEVENT
DTSTART;TZID=Europe/Berlin:20261022T180000
DTEND;TZID=Europe/Berlin:20261022T220000
DTSTAMP:20260421T225949
CREATED:20251231T121153Z
LAST-MODIFIED:20251231T121153Z
UID:4883-1792692000-1792706400@sense-savour.de
SUMMARY:Thai Kochkurs
DESCRIPTION:Exotisch\, aromatisch und voller Frische: Gemeinsam kochen wir thailändische Klassiker – von Tom Yum Suppe über grünes Curry bis zu Klebreis mit Mango. Eine Genussreise nach Südostasien! \nZur Kurs Beschreibung
URL:https://sense-savour.de/event/thai-kochkurs-22102026/
LOCATION:Sense & Savour\, Senftlstraße 3\, München\, 81541\, Germany
CATEGORIES:Thai Kochkurs
ATTACH;FMTTYPE=image/jpeg:https://sense-savour.de/wp-content/uploads/2025/09/tom-yam-kung-spicy-thai-soup-with-shrimp-seafood-2025-01-09-02-44-13-utc-scaled.jpg
ORGANIZER;CN="Sense & Savour":MAILTO:info@sense-savour.com
END:VEVENT
BEGIN:VEVENT
DTSTART;TZID=Europe/Berlin:20261025T100000
DTEND;TZID=Europe/Berlin:20261025T140000
DTSTAMP:20260421T225949
CREATED:20251231T124606Z
LAST-MODIFIED:20251231T124937Z
UID:4884-1792922400-1792936800@sense-savour.de
SUMMARY:Brunch
DESCRIPTION:In unserem Brunch-Kurs nehmen wir uns Zeit für das\, was morgens oft zu kurz kommt: Genuss\, Qualität und echte Handwerkskunst. \nGemeinsam bereiten wir eine abwechslungsreiche Auswahl an süßen und herzhaften Köstlichkeiten zu – von ofenfrischen Backwaren über kreative Eierspeisen bis hin zu fein abgestimmten Aufstrichen\, frischen Komponenten und kleinen warmen Gerichten. \nMehr Informationen
URL:https://sense-savour.de/event/brunch/
LOCATION:Sense & Savour\, Senftlstraße 3\, München\, 81541\, Germany
CATEGORIES:Brunch
ATTACH;FMTTYPE=image/jpeg:https://sense-savour.de/wp-content/uploads/2025/12/brunch.jpg
ORGANIZER;CN="Sense & Savour":MAILTO:info@sense-savour.com
END:VEVENT
BEGIN:VEVENT
DTSTART;TZID=Europe/Berlin:20261029T180000
DTEND;TZID=Europe/Berlin:20261029T220000
DTSTAMP:20260421T225949
CREATED:20251231T114546Z
LAST-MODIFIED:20251231T114546Z
UID:4885-1793296800-1793311200@sense-savour.de
SUMMARY:Sushi Kochkurs
DESCRIPTION:Frisch\, leicht und kreativ: In diesem Kurs lernst du die Kunst der Sushi-Zubereitung kennen – von klassischen Nigiri bis zur California Roll. Natürlich verwenden wir nur Fisch und Zutaten in bester Qualität. \nZur Kurs Beschreibung
URL:https://sense-savour.de/event/sushi-kochkurs-29102026/
LOCATION:Sense & Savour\, Senftlstraße 3\, München\, 81541\, Germany
CATEGORIES:Sushi
ATTACH;FMTTYPE=image/jpeg:https://sense-savour.de/wp-content/uploads/2025/09/set-of-traditional-japanese-sushi-and-rolls-angle-2025-02-12-19-13-48-utc-scaled.jpg
ORGANIZER;CN="Sense & Savour":MAILTO:info@sense-savour.com
END:VEVENT
BEGIN:VEVENT
DTSTART;TZID=Europe/Berlin:20261031T180000
DTEND;TZID=Europe/Berlin:20261031T223000
DTSTAMP:20260421T225949
CREATED:20260130T152148Z
LAST-MODIFIED:20260130T152149Z
UID:4886-1793469600-1793485800@sense-savour.de
SUMMARY:Halloween 2026
DESCRIPTION:
URL:https://sense-savour.de/event/halloween-2026/
LOCATION:Sense & Savour\, Senftlstraße 3\, München\, 81541\, Germany
CATEGORIES:Halloween
ATTACH;FMTTYPE=image/jpeg:https://sense-savour.de/wp-content/uploads/2025/09/gespenstische-halloween-geschnitzte-kurbislaterne-scaled.jpg
ORGANIZER;CN="Sense & Savour":MAILTO:info@sense-savour.com
END:VEVENT
END:VCALENDAR