BEGIN:VCALENDAR
VERSION:2.0
PRODID:-//Sense &amp; Savour - ECPv6.15.20//NONSGML v1.0//EN
CALSCALE:GREGORIAN
METHOD:PUBLISH
X-ORIGINAL-URL:https://sense-savour.de
X-WR-CALDESC:Veranstaltungen für Sense &amp; Savour
REFRESH-INTERVAL;VALUE=DURATION:PT1H
X-Robots-Tag:noindex
X-PUBLISHED-TTL:PT1H
BEGIN:VTIMEZONE
TZID:Europe/Berlin
BEGIN:DAYLIGHT
TZOFFSETFROM:+0100
TZOFFSETTO:+0200
TZNAME:CEST
DTSTART:20250330T010000
END:DAYLIGHT
BEGIN:STANDARD
TZOFFSETFROM:+0200
TZOFFSETTO:+0100
TZNAME:CET
DTSTART:20251026T010000
END:STANDARD
BEGIN:DAYLIGHT
TZOFFSETFROM:+0100
TZOFFSETTO:+0200
TZNAME:CEST
DTSTART:20260329T010000
END:DAYLIGHT
BEGIN:STANDARD
TZOFFSETFROM:+0200
TZOFFSETTO:+0100
TZNAME:CET
DTSTART:20261025T010000
END:STANDARD
BEGIN:DAYLIGHT
TZOFFSETFROM:+0100
TZOFFSETTO:+0200
TZNAME:CEST
DTSTART:20270328T010000
END:DAYLIGHT
BEGIN:STANDARD
TZOFFSETFROM:+0200
TZOFFSETTO:+0100
TZNAME:CET
DTSTART:20271031T010000
END:STANDARD
END:VTIMEZONE
BEGIN:VEVENT
DTSTART;TZID=Europe/Berlin:20260611T180000
DTEND;TZID=Europe/Berlin:20260611T220000
DTSTAMP:20260421T165255
CREATED:20251231T122001Z
LAST-MODIFIED:20251231T122002Z
UID:4853-1781200800-1781215200@sense-savour.de
SUMMARY:Thai Kochkurs
DESCRIPTION:Exotisch\, aromatisch und voller Frische: Gemeinsam kochen wir thailändische Klassiker – von Tom Yum Suppe über grünes Curry bis zu Klebreis mit Mango. Eine Genussreise nach Südostasien! \nZur Kurs Beschreibung
URL:https://sense-savour.de/event/thai-kochkurs-11062026/
LOCATION:Sense & Savour\, Senftlstraße 3\, München\, 81541\, Germany
CATEGORIES:Thai Kochkurs
ATTACH;FMTTYPE=image/jpeg:https://sense-savour.de/wp-content/uploads/2025/09/tom-yam-kung-spicy-thai-soup-with-shrimp-seafood-2025-01-09-02-44-13-utc-scaled.jpg
ORGANIZER;CN="Sense & Savour":MAILTO:info@sense-savour.com
END:VEVENT
BEGIN:VEVENT
DTSTART;TZID=Europe/Berlin:20260614T100000
DTEND;TZID=Europe/Berlin:20260614T140000
DTSTAMP:20260421T165255
CREATED:20251231T130419Z
LAST-MODIFIED:20251231T130420Z
UID:4854-1781431200-1781445600@sense-savour.de
SUMMARY:Brunch
DESCRIPTION:In unserem Brunch-Kurs nehmen wir uns Zeit für das\, was morgens oft zu kurz kommt: Genuss\, Qualität und echte Handwerkskunst. \nGemeinsam bereiten wir eine abwechslungsreiche Auswahl an süßen und herzhaften Köstlichkeiten zu – von ofenfrischen Backwaren über kreative Eierspeisen bis hin zu fein abgestimmten Aufstrichen\, frischen Komponenten und kleinen warmen Gerichten. \nMehr Informationen
URL:https://sense-savour.de/event/brunch-14062026/
LOCATION:Sense & Savour\, Senftlstraße 3\, München\, 81541\, Germany
CATEGORIES:Brunch
ATTACH;FMTTYPE=image/jpeg:https://sense-savour.de/wp-content/uploads/2025/12/brunch.jpg
ORGANIZER;CN="Sense & Savour":MAILTO:info@sense-savour.com
END:VEVENT
BEGIN:VEVENT
DTSTART;TZID=Europe/Berlin:20260620T110000
DTEND;TZID=Europe/Berlin:20260620T150000
DTSTAMP:20260421T165255
CREATED:20251231T120315Z
LAST-MODIFIED:20260309T202612Z
UID:4855-1781953200-1781967600@sense-savour.de
SUMMARY:Sushi Kochkurs
DESCRIPTION:Frisch\, leicht und kreativ: In diesem Kurs lernst du die Kunst der Sushi-Zubereitung kennen – von klassischen Nigiri bis zur California Roll. Natürlich verwenden wir nur Fisch und Zutaten in bester Qualität. \nZur Kurs Beschreibung
URL:https://sense-savour.de/event/sushi-kochkurs-18062026/
LOCATION:Sense & Savour\, Senftlstraße 3\, München\, 81541\, Germany
CATEGORIES:Sushi
ATTACH;FMTTYPE=image/jpeg:https://sense-savour.de/wp-content/uploads/2025/09/set-of-traditional-japanese-sushi-and-rolls-angle-2025-02-12-19-13-48-utc-scaled.jpg
ORGANIZER;CN="Sense & Savour":MAILTO:info@sense-savour.com
END:VEVENT
BEGIN:VEVENT
DTSTART;TZID=Europe/Berlin:20260621T110000
DTEND;TZID=Europe/Berlin:20260621T160000
DTSTAMP:20260421T165255
CREATED:20260104T104658Z
LAST-MODIFIED:20260104T104659Z
UID:4856-1782039600-1782057600@sense-savour.de
SUMMARY:Workshop Saucen und Fonds
DESCRIPTION:Grand Jus\nSauce Hollondaise & Zitronenlachs / Spargel\nGeschmorte Kalbsbäckchen\nKartoffelpüree Pflücksalat\nZabaione mit Früchten\n\nZum Workshop
URL:https://sense-savour.de/event/workshop-saucen-fonds-21062026/
LOCATION:Sense & Savour\, Senftlstraße 3\, München\, 81541\, Germany
CATEGORIES:Workshop Saucen
ATTACH;FMTTYPE=image/jpeg:https://sense-savour.de/wp-content/uploads/2025/09/champignoncremesuppe-einwegbecherschale-serviert-mit-grunem-gemuse-scaled.jpg
ORGANIZER;CN="Sense & Savour":MAILTO:info@sense-savour.com
END:VEVENT
BEGIN:VEVENT
DTSTART;TZID=Europe/Berlin:20260625T180000
DTEND;TZID=Europe/Berlin:20260625T220000
DTSTAMP:20260421T165255
CREATED:20251231T113214Z
LAST-MODIFIED:20251231T113215Z
UID:4857-1782410400-1782424800@sense-savour.de
SUMMARY:Vegan um die Welt
DESCRIPTION:Bunt\, abwechslungsreich und voller Geschmack: In diesem Kurs reisen wir kulinarisch einmal um den Globus – von asiatischen Sommerrollen bis zum schokoladigen Lava Cake. 100 % pflanzlich\, überraschend vielseitig und köstlich. \nZur Kurs Beschreibung
URL:https://sense-savour.de/event/vegan-um-die-welt-25062026/
LOCATION:Sense & Savour\, Senftlstraße 3\, München\, 81541\, Germany
CATEGORIES:Vegan um die Welt
ATTACH;FMTTYPE=image/jpeg:https://sense-savour.de/wp-content/uploads/2025/09/ingredients-for-preparation-vegan-dishes-green-be-2025-02-03-07-09-26-utc-scaled.jpg
ORGANIZER;CN="Sense & Savour":MAILTO:info@sense-savour.com
END:VEVENT
BEGIN:VEVENT
DTSTART;TZID=Europe/Berlin:20260628T110000
DTEND;TZID=Europe/Berlin:20260628T160000
DTSTAMP:20260421T165255
CREATED:20260102T084751Z
LAST-MODIFIED:20260102T084751Z
UID:4858-1782644400-1782662400@sense-savour.de
SUMMARY:Workshop Perfektes Fleisch
DESCRIPTION:•⁠ ⁠Vitello Tonato mit Bio Bauernbrot\n•⁠ ⁠Geschmorte Ochsenbacke\n•⁠ ⁠Kurzgebratenes Lammkaree & Thymiankruste\n•⁠ ⁠Perfektes Thomahawk Steak in Nussbutter und Gremolata\n•⁠ ⁠Kartoffelpüree & Pflücksalat mit Zitronendressing \nZum Workshop
URL:https://sense-savour.de/event/workshop-perfektes-fleisch-28062026/
LOCATION:Sense & Savour\, Senftlstraße 3\, München\, 81541\, Germany
CATEGORIES:Workshop Fleisch
ATTACH;FMTTYPE=image/jpeg:https://sense-savour.de/wp-content/uploads/2025/09/frisches-steakstuck-mit-rosmarine-und-salz-scaled.jpg
ORGANIZER;CN="Sense & Savour":MAILTO:info@sense-savour.com
END:VEVENT
END:VCALENDAR