BEGIN:VCALENDAR
VERSION:2.0
PRODID:-//Sense &amp; Savour - ECPv6.15.20//NONSGML v1.0//EN
CALSCALE:GREGORIAN
METHOD:PUBLISH
X-ORIGINAL-URL:https://sense-savour.de
X-WR-CALDESC:Veranstaltungen für Sense &amp; Savour
REFRESH-INTERVAL;VALUE=DURATION:PT1H
X-Robots-Tag:noindex
X-PUBLISHED-TTL:PT1H
BEGIN:VTIMEZONE
TZID:Europe/Berlin
BEGIN:DAYLIGHT
TZOFFSETFROM:+0100
TZOFFSETTO:+0200
TZNAME:CEST
DTSTART:20250330T010000
END:DAYLIGHT
BEGIN:STANDARD
TZOFFSETFROM:+0200
TZOFFSETTO:+0100
TZNAME:CET
DTSTART:20251026T010000
END:STANDARD
BEGIN:DAYLIGHT
TZOFFSETFROM:+0100
TZOFFSETTO:+0200
TZNAME:CEST
DTSTART:20260329T010000
END:DAYLIGHT
BEGIN:STANDARD
TZOFFSETFROM:+0200
TZOFFSETTO:+0100
TZNAME:CET
DTSTART:20261025T010000
END:STANDARD
BEGIN:DAYLIGHT
TZOFFSETFROM:+0100
TZOFFSETTO:+0200
TZNAME:CEST
DTSTART:20270328T010000
END:DAYLIGHT
BEGIN:STANDARD
TZOFFSETFROM:+0200
TZOFFSETTO:+0100
TZNAME:CET
DTSTART:20271031T010000
END:STANDARD
END:VTIMEZONE
BEGIN:VEVENT
DTSTART;TZID=Europe/Berlin:20260503T110000
DTEND;TZID=Europe/Berlin:20260503T160000
DTSTAMP:20260421T151732
CREATED:20260102T083032Z
LAST-MODIFIED:20260102T083033Z
UID:4845-1777806000-1777824000@sense-savour.de
SUMMARY:Workshop Pasta
DESCRIPTION:Pasta Teig Basis\nRavioli Spinat Ricotta Lachs\nLasagne al forno\nTagaitelle Rahm Kräuterseitlinge\nPasta Carbonara\n\nZum Workshop
URL:https://sense-savour.de/event/workshop-pasta-03052026/
LOCATION:Sense & Savour\, Senftlstraße 3\, München\, 81541\, Germany
CATEGORIES:Workshop Pasta
ATTACH;FMTTYPE=image/jpeg:https://sense-savour.de/wp-content/uploads/2025/09/ungekochte-bandnudeln-mit-mehl-auf-schwarzem-hintergrund-1-scaled.jpg
ORGANIZER;CN="Sense & Savour":MAILTO:info@sense-savour.com
END:VEVENT
BEGIN:VEVENT
DTSTART;TZID=Europe/Berlin:20260507T180000
DTEND;TZID=Europe/Berlin:20260507T220000
DTSTAMP:20260421T151732
CREATED:20251231T122208Z
LAST-MODIFIED:20251231T122209Z
UID:4846-1778176800-1778191200@sense-savour.de
SUMMARY:Thai Kochkurs
DESCRIPTION:Exotisch\, aromatisch und voller Frische: Gemeinsam kochen wir thailändische Klassiker – von Tom Yum Suppe über grünes Curry bis zu Klebreis mit Mango. Eine Genussreise nach Südostasien! \nZur Kurs Beschreibung
URL:https://sense-savour.de/event/thai-kochkurs-07052026/
LOCATION:Sense & Savour\, Senftlstraße 3\, München\, 81541\, Germany
CATEGORIES:Thai Kochkurs
ATTACH;FMTTYPE=image/jpeg:https://sense-savour.de/wp-content/uploads/2025/09/tom-yam-kung-spicy-thai-soup-with-shrimp-seafood-2025-01-09-02-44-13-utc-scaled.jpg
ORGANIZER;CN="Sense & Savour":MAILTO:info@sense-savour.com
END:VEVENT
BEGIN:VEVENT
DTSTART;TZID=Europe/Berlin:20260510T100000
DTEND;TZID=Europe/Berlin:20260510T140000
DTSTAMP:20260421T151732
CREATED:20251231T130135Z
LAST-MODIFIED:20251231T130135Z
UID:4847-1778407200-1778421600@sense-savour.de
SUMMARY:Brunch
DESCRIPTION:In unserem Brunch-Kurs nehmen wir uns Zeit für das\, was morgens oft zu kurz kommt: Genuss\, Qualität und echte Handwerkskunst. \nGemeinsam bereiten wir eine abwechslungsreiche Auswahl an süßen und herzhaften Köstlichkeiten zu – von ofenfrischen Backwaren über kreative Eierspeisen bis hin zu fein abgestimmten Aufstrichen\, frischen Komponenten und kleinen warmen Gerichten. \nMehr Informationen
URL:https://sense-savour.de/event/brunch-10052026/
LOCATION:Sense & Savour\, Senftlstraße 3\, München\, 81541\, Germany
CATEGORIES:Brunch
ATTACH;FMTTYPE=image/jpeg:https://sense-savour.de/wp-content/uploads/2025/12/brunch.jpg
ORGANIZER;CN="Sense & Savour":MAILTO:info@sense-savour.com
END:VEVENT
BEGIN:VEVENT
DTSTART;TZID=Europe/Berlin:20260514T110000
DTEND;TZID=Europe/Berlin:20260514T160000
DTSTAMP:20260421T151732
CREATED:20260102T084518Z
LAST-MODIFIED:20260102T084518Z
UID:4848-1778756400-1778774400@sense-savour.de
SUMMARY:Workshop Perfektes Fleisch
DESCRIPTION:•⁠ ⁠Vitello Tonato mit Bio Bauernbrot\n•⁠ ⁠Geschmorte Ochsenbacke\n•⁠ ⁠Kurzgebratenes Lammkaree & Thymiankruste\n•⁠ ⁠Perfektes Thomahawk Steak in Nussbutter und Gremolata\n•⁠ ⁠Kartoffelpüree & Pflücksalat mit Zitronendressing \nZum Workshop
URL:https://sense-savour.de/event/workshop-perfektes-fleisch-14052026/
LOCATION:Sense & Savour\, Senftlstraße 3\, München\, 81541\, Germany
CATEGORIES:Workshop Fleisch
ATTACH;FMTTYPE=image/jpeg:https://sense-savour.de/wp-content/uploads/2025/09/frisches-steakstuck-mit-rosmarine-und-salz-scaled.jpg
ORGANIZER;CN="Sense & Savour":MAILTO:info@sense-savour.com
END:VEVENT
BEGIN:VEVENT
DTSTART;TZID=Europe/Berlin:20260517T110000
DTEND;TZID=Europe/Berlin:20260517T150000
DTSTAMP:20260421T151732
CREATED:20260104T103922Z
LAST-MODIFIED:20260104T103923Z
UID:4849-1779015600-1779030000@sense-savour.de
SUMMARY:Omas bayerische Klassiker
DESCRIPTION:Herzhaft\, traditionell und mit viel Liebe gekocht: Von Obatzda mit frischem Bauernbrot über Schweinsbraten bis zum warmen Apfelstrudel – ein Abend wie bei Oma am Sonntagstisch. \nZur Kurs Beschreibung
URL:https://sense-savour.de/event/omas-bayerische-klassiker-17052026/
LOCATION:Sense & Savour\, Senftlstraße 3\, München\, 81541\, Germany
CATEGORIES:Omas bayrische Klassiker
ATTACH;FMTTYPE=image/jpeg:https://sense-savour.de/wp-content/uploads/2025/09/Omas-bayerische-klassiker-scaled.jpg
ORGANIZER;CN="Sense & Savour":MAILTO:info@sense-savour.com
END:VEVENT
BEGIN:VEVENT
DTSTART;TZID=Europe/Berlin:20260521T180000
DTEND;TZID=Europe/Berlin:20260521T220000
DTSTAMP:20260421T151732
CREATED:20260104T101417Z
LAST-MODIFIED:20260104T101418Z
UID:4850-1779386400-1779400800@sense-savour.de
SUMMARY:Orientalischer Kochkurs
DESCRIPTION:Taucht gemeinsam mit eurer Familie und euren Freunden in die faszinierende Welt der orientalischen Küche ein! 🧆In diesem Kochkurs bereiten wir gemeinsam ein köstliches Menü aus aromatischen Klassikern zu. \nZum Kochkurs
URL:https://sense-savour.de/event/orientalischer-kochkurs-21052026/
LOCATION:Sense & Savour\, Senftlstraße 3\, München\, 81541\, Germany
CATEGORIES:orientalischer Kochkurs
ATTACH;FMTTYPE=image/jpeg:https://sense-savour.de/wp-content/uploads/2025/10/falafel-hummus-pita-scaled.jpg
ORGANIZER;CN="Sense & Savour":MAILTO:info@sense-savour.com
END:VEVENT
BEGIN:VEVENT
DTSTART;TZID=Europe/Berlin:20260522T180000
DTEND;TZID=Europe/Berlin:20260522T220000
DTSTAMP:20260421T151732
CREATED:20251231T120531Z
LAST-MODIFIED:20251231T120532Z
UID:4851-1779472800-1779487200@sense-savour.de
SUMMARY:Sushi Kochkurs
DESCRIPTION:Frisch\, leicht und kreativ: In diesem Kurs lernst du die Kunst der Sushi-Zubereitung kennen – von klassischen Nigiri bis zur California Roll. Natürlich verwenden wir nur Fisch und Zutaten in bester Qualität. \nZur Kurs Beschreibung
URL:https://sense-savour.de/event/sushi-kochkurs-22052026/
LOCATION:Sense & Savour\, Senftlstraße 3\, München\, 81541\, Germany
CATEGORIES:Sushi
ATTACH;FMTTYPE=image/jpeg:https://sense-savour.de/wp-content/uploads/2025/09/set-of-traditional-japanese-sushi-and-rolls-angle-2025-02-12-19-13-48-utc-scaled.jpg
ORGANIZER;CN="Sense & Savour":MAILTO:info@sense-savour.com
END:VEVENT
BEGIN:VEVENT
DTSTART;TZID=Europe/Berlin:20260528T180000
DTEND;TZID=Europe/Berlin:20260528T220000
DTSTAMP:20260421T151732
CREATED:20251231T111413Z
LAST-MODIFIED:20260318T232624Z
UID:4852-1779991200-1780005600@sense-savour.de
SUMMARY:Vegan um die Welt
DESCRIPTION:Bunt\, abwechslungsreich und voller Geschmack: In diesem Kurs reisen wir kulinarisch einmal um den Globus – von asiatischen Sommerrollen bis zum schokoladigen Lava Cake. 100 % pflanzlich\, überraschend vielseitig und köstlich. \nZur Kurs Beschreibung
URL:https://sense-savour.de/event/vegan-um-die-welt-28052026/
LOCATION:Sense & Savour\, Senftlstraße 3\, München\, 81541\, Germany
CATEGORIES:Vegan um die Welt
ATTACH;FMTTYPE=image/jpeg:https://sense-savour.de/wp-content/uploads/2025/09/ingredients-for-preparation-vegan-dishes-green-be-2025-02-03-07-09-26-utc-scaled.jpg
ORGANIZER;CN="Sense & Savour":MAILTO:info@sense-savour.com
END:VEVENT
END:VCALENDAR