BEGIN:VCALENDAR
VERSION:2.0
PRODID:-//Sense &amp; Savour - ECPv6.15.20//NONSGML v1.0//EN
CALSCALE:GREGORIAN
METHOD:PUBLISH
X-ORIGINAL-URL:https://sense-savour.de
X-WR-CALDESC:Veranstaltungen für Sense &amp; Savour
REFRESH-INTERVAL;VALUE=DURATION:PT1H
X-Robots-Tag:noindex
X-PUBLISHED-TTL:PT1H
BEGIN:VTIMEZONE
TZID:Europe/Berlin
BEGIN:DAYLIGHT
TZOFFSETFROM:+0100
TZOFFSETTO:+0200
TZNAME:CEST
DTSTART:20240331T010000
END:DAYLIGHT
BEGIN:STANDARD
TZOFFSETFROM:+0200
TZOFFSETTO:+0100
TZNAME:CET
DTSTART:20241027T010000
END:STANDARD
BEGIN:DAYLIGHT
TZOFFSETFROM:+0100
TZOFFSETTO:+0200
TZNAME:CEST
DTSTART:20250330T010000
END:DAYLIGHT
BEGIN:STANDARD
TZOFFSETFROM:+0200
TZOFFSETTO:+0100
TZNAME:CET
DTSTART:20251026T010000
END:STANDARD
BEGIN:DAYLIGHT
TZOFFSETFROM:+0100
TZOFFSETTO:+0200
TZNAME:CEST
DTSTART:20260329T010000
END:DAYLIGHT
BEGIN:STANDARD
TZOFFSETFROM:+0200
TZOFFSETTO:+0100
TZNAME:CET
DTSTART:20261025T010000
END:STANDARD
END:VTIMEZONE
BEGIN:VEVENT
DTSTART;TZID=Europe/Berlin:20251102T110000
DTEND;TZID=Europe/Berlin:20251102T160000
DTSTAMP:20260421T214036
CREATED:20250911T151504Z
LAST-MODIFIED:20251015T101625Z
UID:2816-1762081200-1762099200@sense-savour.de
SUMMARY:Workshop Perfektes Fleisch
DESCRIPTION:•⁠ ⁠Vitello Tonato mit Bio Bauernbrot\n•⁠ ⁠Geschmorte Ochsenbacke\n•⁠ ⁠Kurzgebratenes Lammkaree & Thymiankruste\n•⁠ ⁠Perfektes Thomahawk Steak in Nussbutter und Gremolata\n•⁠ ⁠Kartoffelpüree & Pflücksalat mit Zitronendressing \nZum Workshop
URL:https://sense-savour.de/event/workshop-perfektes-fleisch-02112025/
LOCATION:Sense & Savour\, Senftlstraße 3\, München\, 81541\, Germany
CATEGORIES:Workshop Fleisch
ATTACH;FMTTYPE=image/jpeg:https://sense-savour.de/wp-content/uploads/2025/09/frisches-steakstuck-mit-rosmarine-und-salz-scaled.jpg
ORGANIZER;CN="Sense & Savour":MAILTO:info@sense-savour.com
END:VEVENT
BEGIN:VEVENT
DTSTART;TZID=Europe/Berlin:20251106T180000
DTEND;TZID=Europe/Berlin:20251106T220000
DTSTAMP:20260421T214036
CREATED:20250911T151504Z
LAST-MODIFIED:20251026T181146Z
UID:2818-1762452000-1762466400@sense-savour.de
SUMMARY:Sushi für Einsteiger
DESCRIPTION:Frisch\, leicht und kreativ: In diesem Kurs lernst du die Kunst der Sushi-Zubereitung kennen – von klassischen Nigiri bis zur California Roll. Natürlich verwenden wir nur Fisch und Zutaten in bester Qualität. \nZur Kurs Beschreibung
URL:https://sense-savour.de/event/sushi-fuer-einsteiger-06112025/
LOCATION:Sense & Savour\, Senftlstraße 3\, München\, 81541\, Germany
CATEGORIES:Sushi
ATTACH;FMTTYPE=image/jpeg:https://sense-savour.de/wp-content/uploads/2025/09/set-of-traditional-japanese-sushi-and-rolls-angle-2025-02-12-19-13-48-utc-scaled.jpg
ORGANIZER;CN="Sense & Savour":MAILTO:info@sense-savour.com
END:VEVENT
BEGIN:VEVENT
DTSTART;TZID=Europe/Berlin:20251116T110000
DTEND;TZID=Europe/Berlin:20251116T160000
DTSTAMP:20260421T214036
CREATED:20250911T151504Z
LAST-MODIFIED:20251026T180447Z
UID:2819-1763290800-1763308800@sense-savour.de
SUMMARY:Workshop Saucen und Fonds
DESCRIPTION:Grand Jus\nSauce Hollondaise & Zitronenlachs / Spargel\nGeschmorte Kalbsbäckchen\nKartoffelpüree Pflücksalat\nZabaione mit Früchten\n\nZum Workshop
URL:https://sense-savour.de/event/workshop-saucen-fonds/
LOCATION:Sense & Savour\, Senftlstraße 3\, München\, 81541\, Germany
CATEGORIES:Workshop Saucen
ATTACH;FMTTYPE=image/jpeg:https://sense-savour.de/wp-content/uploads/2025/09/champignoncremesuppe-einwegbecherschale-serviert-mit-grunem-gemuse-scaled.jpg
ORGANIZER;CN="Sense & Savour":MAILTO:info@sense-savour.com
END:VEVENT
BEGIN:VEVENT
DTSTART;TZID=Europe/Berlin:20251120T180000
DTEND;TZID=Europe/Berlin:20251120T220000
DTSTAMP:20260421T214036
CREATED:20250911T151504Z
LAST-MODIFIED:20251119T175159Z
UID:2820-1763661600-1763676000@sense-savour.de
SUMMARY:Vegan um die Welt
DESCRIPTION:Bunt\, abwechslungsreich und voller Geschmack: In diesem Kurs reisen wir kulinarisch einmal um den Globus – von asiatischen Sommerrollen bis zum schokoladigen Lava Cake. 100 % pflanzlich\, überraschend vielseitig und köstlich. Zur Kurs Beschreibung \n\n\n\n\n\n\n\n\n\n\n 
URL:https://sense-savour.de/event/vegan-um-die-welt/
LOCATION:Sense & Savour\, Senftlstraße 3\, München\, 81541\, Germany
CATEGORIES:Vegan um die Welt
ATTACH;FMTTYPE=image/jpeg:https://sense-savour.de/wp-content/uploads/2025/09/ingredients-for-preparation-vegan-dishes-green-be-2025-02-03-07-09-26-utc-scaled.jpg
ORGANIZER;CN="Sense & Savour":MAILTO:info@sense-savour.com
END:VEVENT
BEGIN:VEVENT
DTSTART;TZID=Europe/Berlin:20251123T110000
DTEND;TZID=Europe/Berlin:20251123T160000
DTSTAMP:20260421T214036
CREATED:20250911T151504Z
LAST-MODIFIED:20251119T100733Z
UID:2821-1763895600-1763913600@sense-savour.de
SUMMARY:Workshop Pasta
DESCRIPTION:Pasta Teig Basis\nRavioli Spinat Ricotta Lachs\nLasagne al forno\nTagaitelle Rahm Kräuterseitlinge\nPasta Carbonara\n\nZum Workshop
URL:https://sense-savour.de/event/workshop-pasta/
LOCATION:Sense & Savour\, Senftlstraße 3\, München\, 81541\, Germany
CATEGORIES:Workshop Pasta
ATTACH;FMTTYPE=image/jpeg:https://sense-savour.de/wp-content/uploads/2025/09/ungekochte-bandnudeln-mit-mehl-auf-schwarzem-hintergrund-1-scaled.jpg
ORGANIZER;CN="Sense & Savour":MAILTO:info@sense-savour.com
END:VEVENT
BEGIN:VEVENT
DTSTART;TZID=Europe/Berlin:20251128T180000
DTEND;TZID=Europe/Berlin:20251128T220000
DTSTAMP:20260421T214036
CREATED:20250911T151504Z
LAST-MODIFIED:20251111T093654Z
UID:2822-1764352800-1764367200@sense-savour.de
SUMMARY:Sushi für Einsteiger
DESCRIPTION:Frisch\, leicht und kreativ: In diesem Kurs lernst du die Kunst der Sushi-Zubereitung kennen – von klassischen Nigiri bis zur California Roll. Natürlich verwenden wir nur Fisch und Zutaten in bester Qualität. \nZur Kurs Beschreibung
URL:https://sense-savour.de/event/sushi-fuer-einsteiger-25112025/
LOCATION:Sense & Savour\, Senftlstraße 3\, München\, 81541\, Germany
CATEGORIES:Sushi
ATTACH;FMTTYPE=image/jpeg:https://sense-savour.de/wp-content/uploads/2025/09/set-of-traditional-japanese-sushi-and-rolls-angle-2025-02-12-19-13-48-utc-scaled.jpg
ORGANIZER;CN="Sense & Savour":MAILTO:info@sense-savour.com
END:VEVENT
BEGIN:VEVENT
DTSTART;TZID=Europe/Berlin:20251129T180000
DTEND;TZID=Europe/Berlin:20251129T220000
DTSTAMP:20260421T214036
CREATED:20250911T151504Z
LAST-MODIFIED:20251128T112843Z
UID:2823-1764439200-1764453600@sense-savour.de
SUMMARY:Thai Kochkurs
DESCRIPTION:Exotisch\, aromatisch und voller Frische: Gemeinsam kochen wir thailändische Klassiker – von Tom Yum Suppe über grünes Curry bis zu Klebreis mit Mango. Eine Genussreise nach Südostasien! \nZur Kurs Beschreibung
URL:https://sense-savour.de/event/thai-kochkurs-29112025/
LOCATION:Sense & Savour\, Senftlstraße 3\, München\, 81541\, Germany
CATEGORIES:Thai Kochkurs
ATTACH;FMTTYPE=image/jpeg:https://sense-savour.de/wp-content/uploads/2025/09/tom-yam-kung-spicy-thai-soup-with-shrimp-seafood-2025-01-09-02-44-13-utc-scaled.jpg
ORGANIZER;CN="Sense & Savour":MAILTO:info@sense-savour.com
END:VEVENT
BEGIN:VEVENT
DTSTART;TZID=Europe/Berlin:20251130T110000
DTEND;TZID=Europe/Berlin:20251130T150000
DTSTAMP:20260421T214036
CREATED:20250911T151505Z
LAST-MODIFIED:20251111T093819Z
UID:2824-1764500400-1764514800@sense-savour.de
SUMMARY:Weihnachtsbäckerei
DESCRIPTION:Von Lebkuchen bis Nussecken – entdecke die süßen Klassiker der Adventszeit und genieße den Zauber von Weihnachten frisch aus dem Ofen. \nZur Kurs Beschreibung
URL:https://sense-savour.de/event/weihnachtsbaeckerei-1-advent/
LOCATION:Sense & Savour\, Senftlstraße 3\, München\, 81541\, Germany
CATEGORIES:Weihnachtsbäckerei
ATTACH;FMTTYPE=image/jpeg:https://sense-savour.de/wp-content/uploads/2025/09/christstollen-scaled.jpg
ORGANIZER;CN="Sense & Savour":MAILTO:info@sense-savour.com
END:VEVENT
END:VCALENDAR