BEGIN:VCALENDAR
VERSION:2.0
PRODID:-//Sense &amp; Savour - ECPv6.15.20//NONSGML v1.0//EN
CALSCALE:GREGORIAN
METHOD:PUBLISH
X-WR-CALNAME:Sense &amp; Savour
X-ORIGINAL-URL:https://sense-savour.de
X-WR-CALDESC:Veranstaltungen für Sense &amp; Savour
REFRESH-INTERVAL;VALUE=DURATION:PT1H
X-Robots-Tag:noindex
X-PUBLISHED-TTL:PT1H
BEGIN:VTIMEZONE
TZID:Europe/Berlin
BEGIN:DAYLIGHT
TZOFFSETFROM:+0100
TZOFFSETTO:+0200
TZNAME:CEST
DTSTART:20250330T010000
END:DAYLIGHT
BEGIN:STANDARD
TZOFFSETFROM:+0200
TZOFFSETTO:+0100
TZNAME:CET
DTSTART:20251026T010000
END:STANDARD
BEGIN:DAYLIGHT
TZOFFSETFROM:+0100
TZOFFSETTO:+0200
TZNAME:CEST
DTSTART:20260329T010000
END:DAYLIGHT
BEGIN:STANDARD
TZOFFSETFROM:+0200
TZOFFSETTO:+0100
TZNAME:CET
DTSTART:20261025T010000
END:STANDARD
BEGIN:DAYLIGHT
TZOFFSETFROM:+0100
TZOFFSETTO:+0200
TZNAME:CEST
DTSTART:20270328T010000
END:DAYLIGHT
BEGIN:STANDARD
TZOFFSETFROM:+0200
TZOFFSETTO:+0100
TZNAME:CET
DTSTART:20271031T010000
END:STANDARD
END:VTIMEZONE
BEGIN:VEVENT
DTSTART;VALUE=DATE:20260411
DTEND;VALUE=DATE:20260412
DTSTAMP:20260421T150607
CREATED:20260403T102322Z
LAST-MODIFIED:20260411T055634Z
UID:5605-1775865600-1775951999@sense-savour.de
SUMMARY:Qookingtable Workshop
DESCRIPTION:🔥Teppanyaki verstehen & erleben – der Qookingtable Workshop!🛎️ \nIn unserem Qookingtable-Workshop zeigen wir dir nicht nur raffinierte Teppanyaki-Rezepte\, sondern auch\, wie einfach und vielseitig sich der Qookingtable bedienen lässt. Du lernst\, das volle Potenzial dieses Systems auszuschöpfen – ganz egal\, ob Einsteiger oder ambitionierter Hobbykoch. \nZum Workshop
URL:https://sense-savour.de/event/qookingtable-workshop/
LOCATION:Sense & Savour\, Senftlstraße 3\, München\, 81541\, Germany
CATEGORIES:Workshop Qookingtable
ATTACH;FMTTYPE=image/jpeg:https://sense-savour.de/wp-content/uploads/2026/04/INSPIRATIE-FOTOS-17.jpg
ORGANIZER;CN="Sense & Savour":MAILTO:info@sense-savour.com
END:VEVENT
END:VCALENDAR