BEGIN:VCALENDAR
VERSION:2.0
PRODID:-//Sense &amp; Savour - ECPv6.15.20//NONSGML v1.0//EN
CALSCALE:GREGORIAN
METHOD:PUBLISH
X-WR-CALNAME:Sense &amp; Savour
X-ORIGINAL-URL:https://sense-savour.de
X-WR-CALDESC:Veranstaltungen für Sense &amp; Savour
REFRESH-INTERVAL;VALUE=DURATION:PT1H
X-Robots-Tag:noindex
X-PUBLISHED-TTL:PT1H
BEGIN:VTIMEZONE
TZID:Europe/Berlin
BEGIN:DAYLIGHT
TZOFFSETFROM:+0100
TZOFFSETTO:+0200
TZNAME:CEST
DTSTART:20250330T010000
END:DAYLIGHT
BEGIN:STANDARD
TZOFFSETFROM:+0200
TZOFFSETTO:+0100
TZNAME:CET
DTSTART:20251026T010000
END:STANDARD
BEGIN:DAYLIGHT
TZOFFSETFROM:+0100
TZOFFSETTO:+0200
TZNAME:CEST
DTSTART:20260329T010000
END:DAYLIGHT
BEGIN:STANDARD
TZOFFSETFROM:+0200
TZOFFSETTO:+0100
TZNAME:CET
DTSTART:20261025T010000
END:STANDARD
BEGIN:DAYLIGHT
TZOFFSETFROM:+0100
TZOFFSETTO:+0200
TZNAME:CEST
DTSTART:20270328T010000
END:DAYLIGHT
BEGIN:STANDARD
TZOFFSETFROM:+0200
TZOFFSETTO:+0100
TZNAME:CET
DTSTART:20271031T010000
END:STANDARD
END:VTIMEZONE
BEGIN:VEVENT
DTSTART;TZID=Europe/Berlin:20260129T180000
DTEND;TZID=Europe/Berlin:20260129T220000
DTSTAMP:20260421T184018
CREATED:20260105T182542Z
LAST-MODIFIED:20260108T102056Z
UID:5110-1769709600-1769724000@sense-savour.de
SUMMARY:Vegan um die Welt
DESCRIPTION:Bunt\, abwechslungsreich und voller Geschmack: In diesem Kurs reisen wir kulinarisch einmal um den Globus – von asiatischen Sommerrollen bis zum schokoladigen Lava Cake. 100 % pflanzlich\, überraschend vielseitig und köstlich. \nZur Kurs Beschreibung
URL:https://sense-savour.de/event/vegan-um-die-welt-29012026/
LOCATION:Sense & Savour\, Senftlstraße 3\, München\, 81541\, Germany
CATEGORIES:Vegan um die Welt
ATTACH;FMTTYPE=image/jpeg:https://sense-savour.de/wp-content/uploads/2025/09/ingredients-for-preparation-vegan-dishes-green-be-2025-02-03-07-09-26-utc-scaled.jpg
ORGANIZER;CN="Sense & Savour":MAILTO:info@sense-savour.com
END:VEVENT
END:VCALENDAR