BEGIN:VCALENDAR
VERSION:2.0
PRODID:-//Sense &amp; Savour - ECPv6.15.20//NONSGML v1.0//EN
CALSCALE:GREGORIAN
METHOD:PUBLISH
X-WR-CALNAME:Sense &amp; Savour
X-ORIGINAL-URL:https://sense-savour.de
X-WR-CALDESC:Veranstaltungen für Sense &amp; Savour
REFRESH-INTERVAL;VALUE=DURATION:PT1H
X-Robots-Tag:noindex
X-PUBLISHED-TTL:PT1H
BEGIN:VTIMEZONE
TZID:Europe/Berlin
BEGIN:DAYLIGHT
TZOFFSETFROM:+0100
TZOFFSETTO:+0200
TZNAME:CEST
DTSTART:20250330T010000
END:DAYLIGHT
BEGIN:STANDARD
TZOFFSETFROM:+0200
TZOFFSETTO:+0100
TZNAME:CET
DTSTART:20251026T010000
END:STANDARD
BEGIN:DAYLIGHT
TZOFFSETFROM:+0100
TZOFFSETTO:+0200
TZNAME:CEST
DTSTART:20260329T010000
END:DAYLIGHT
BEGIN:STANDARD
TZOFFSETFROM:+0200
TZOFFSETTO:+0100
TZNAME:CET
DTSTART:20261025T010000
END:STANDARD
BEGIN:DAYLIGHT
TZOFFSETFROM:+0100
TZOFFSETTO:+0200
TZNAME:CEST
DTSTART:20270328T010000
END:DAYLIGHT
BEGIN:STANDARD
TZOFFSETFROM:+0200
TZOFFSETTO:+0100
TZNAME:CET
DTSTART:20271031T010000
END:STANDARD
END:VTIMEZONE
BEGIN:VEVENT
DTSTART;TZID=Europe/Berlin:20260116T180000
DTEND;TZID=Europe/Berlin:20260116T220000
DTSTAMP:20260421T200827
CREATED:20251018T110612Z
LAST-MODIFIED:20260107T081836Z
UID:3622-1768586400-1768600800@sense-savour.de
SUMMARY:Orientalischer Kochkurs
DESCRIPTION:Taucht gemeinsam mit eurer Familie und euren Freunden in die faszinierende Welt der orientalischen Küche ein! 🧆In diesem Kochkurs bereiten wir gemeinsam ein köstliches Menü aus aromatischen Klassikern zu. \nZum Kochkurs
URL:https://sense-savour.de/event/orientalischer-kochkurs-16012026/
LOCATION:Sense & Savour\, Senftlstraße 3\, München\, 81541\, Germany
CATEGORIES:orientalischer Kochkurs
ATTACH;FMTTYPE=image/jpeg:https://sense-savour.de/wp-content/uploads/2025/10/falafel-hummus-pita-scaled.jpg
ORGANIZER;CN="Sense & Savour":MAILTO:info@sense-savour.com
END:VEVENT
END:VCALENDAR