BEGIN:VCALENDAR
VERSION:2.0
PRODID:-//Sense &amp; Savour - ECPv6.15.20//NONSGML v1.0//EN
CALSCALE:GREGORIAN
METHOD:PUBLISH
X-ORIGINAL-URL:https://sense-savour.de
X-WR-CALDESC:Veranstaltungen für Sense &amp; Savour
REFRESH-INTERVAL;VALUE=DURATION:PT1H
X-Robots-Tag:noindex
X-PUBLISHED-TTL:PT1H
BEGIN:VTIMEZONE
TZID:Europe/Berlin
BEGIN:DAYLIGHT
TZOFFSETFROM:+0100
TZOFFSETTO:+0200
TZNAME:CEST
DTSTART:20240331T010000
END:DAYLIGHT
BEGIN:STANDARD
TZOFFSETFROM:+0200
TZOFFSETTO:+0100
TZNAME:CET
DTSTART:20241027T010000
END:STANDARD
BEGIN:DAYLIGHT
TZOFFSETFROM:+0100
TZOFFSETTO:+0200
TZNAME:CEST
DTSTART:20250330T010000
END:DAYLIGHT
BEGIN:STANDARD
TZOFFSETFROM:+0200
TZOFFSETTO:+0100
TZNAME:CET
DTSTART:20251026T010000
END:STANDARD
BEGIN:DAYLIGHT
TZOFFSETFROM:+0100
TZOFFSETTO:+0200
TZNAME:CEST
DTSTART:20260329T010000
END:DAYLIGHT
BEGIN:STANDARD
TZOFFSETFROM:+0200
TZOFFSETTO:+0100
TZNAME:CET
DTSTART:20261025T010000
END:STANDARD
END:VTIMEZONE
BEGIN:VEVENT
DTSTART;TZID=Europe/Berlin:20251221T110000
DTEND;TZID=Europe/Berlin:20251221T150000
DTSTAMP:20260421T214034
CREATED:20250911T151505Z
LAST-MODIFIED:20250930T200516Z
UID:2829-1766314800-1766329200@sense-savour.de
SUMMARY:Weihnachtszauber am Herd
DESCRIPTION:Festliche Stimmung\, duftende Klassiker und gemütliches Beisammensein: Gemeinsam kochen wir ein weihnachtliches Menü mit Rinderrouladen\, Semmelknödeln und Mousse au Chocolat. \nZur Kurs Beschreibung
URL:https://sense-savour.de/event/weihnachtszauber-am-herd/
LOCATION:Sense & Savour\, Senftlstraße 3\, München\, 81541\, Germany
CATEGORIES:Weihnachtszauber am Herd
ATTACH;FMTTYPE=image/jpeg:https://sense-savour.de/wp-content/uploads/2025/09/weihnachtszauber-1-scaled.jpg
ORGANIZER;CN="Sense & Savour":MAILTO:info@sense-savour.com
END:VEVENT
END:VCALENDAR